{"text_format":"1","workbook":"xlsx","n_sheets":5,"sheets":["見積書・請求書","送付状","FAX送信状","基本情報","ご使用前に"],"not_rendered":{"charts":0,"images":0,"macros":1,"external_links":0,"defined_names":4,"comments":0,"pivot_tables":0},"unopened":[],"bounds":{"document_bytes":16777216,"sheet_cells":100000,"rows_first":2000,"rows_last":500,"rows_between":2000,"halvings":0,"cell_chars":16384,"cell_head_chars":4096},"cells_cut":0,"cells_raw":0,"read":"whole","date_system":"1900"}

{"sheet":"見積書・請求書","index":0,"n_rows":39,"n_cols":9,"rows_kept":39,"cut":false,"hidden":false,"merged":[[12,0,12,1],[12,2,12,3],[38,0,38,9],[32,4,32,5],[32,2,32,3],[30,4,30,5],[31,4,31,5],[30,2,30,3],[31,2,31,3],[37,0,37,3],[34,5,34,9],[35,5,35,9],[36,5,36,9],[37,7,37,9],[34,0,34,4],[35,0,35,1],[35,2,35,3],[36,0,36,1],[36,2,36,3],[8,0,8,4],[9,0,10,1],[9,2,10,3],[9,4,10,4],[22,1,22,4],[14,1,14,4],[17,1,17,4],[18,1,18,4],[19,1,19,4],[20,1,20,4],[21,1,21,4],[29,1,29,4],[26,1,26,4],[0,7,0,8],[1,8,1,9],[0,0,1,5],[4,0,5,3],[4,4,5,4],[6,0,6,1],[6,2,6,3],[5,5,6,5],[5,6,6,9],[3,7,3,9],[8,6,8,9],[9,6,9,9],[10,6,10,9],[12,7,12,8],[11,7,11,8],[14,6,14,7],[14,8,14,9],[15,1,15,4],[16,1,16,4],[15,8,15,9],[16,8,16,9],[15,6,15,7],[16,6,16,7],[17,6,17,7],[18,6,18,7],[19,6,19,7],[20,6,20,7],[21,6,21,7],[22,6,22,7],[23,6,23,7],[23,1,23,4],[24,1,24,4],[25,1,25,4],[27,1,27,4],[28,1,28,4],[24,6,24,7],[25,6,25,7],[26,6,26,7],[27,6,27,7],[28,6,28,7],[28,8,28,9],[17,8,17,9],[18,8,18,9],[19,8,19,9],[20,8,20,9],[21,8,21,9],[22,8,22,9],[23,8,23,9],[24,8,24,9],[25,8,25,9],[26,8,26,9],[27,8,27,9],[29,8,29,9],[30,6,30,7],[31,6,31,7],[32,6,32,7],[30,8,30,9],[31,8,31,9],[32,8,32,9],[29,6,29,7]]}
[{"$f":"基本情報!B9","v":0}]
[null,null,null,null,null,null,null,null,"2020-05-31"]
[]
[]
[null,null,null,null,"御中"]
[null,null,null,null,null,"件名："]
[null,null,"マイケル"]
[]
[{"$f":"基本情報!D9","v":0},null,null,null,null,null,{"$f":"基本情報!B2","v":0}]
["合計金額：",null,{"$f":"I33","v":0},null,"（税込）",null,{"$f":"基本情報!B3","v":0}]
[null,null,null,null,null,null,{"$f":"基本情報!B4","v":0}]
[null,null,null,null,null,null,"TEL:",{"$f":"基本情報!B5","v":0}]
[null,null,null,null,null,null,"FAX:",{"$f":"基本情報!D5","v":0}]
[]
[{"$f":"基本情報!B11","v":0},{"$f":"基本情報!B12","v":0},null,null,null,{"$f":"基本情報!B13","v":0},{"$f":"基本情報!B14","v":0},null,{"$f":"基本情報!B15","v":0}]
[null,null,null,null,null,null,null,null,{"$f":"F16*G16","v":0}]
[null,null,null,null,null,null,null,null,{"$f":"F17*G17","v":0}]
[null,null,null,null,null,null,null,null,0]
[null,null,null,null,null,null,null,null,0]
[null,null,null,null,null,null,null,null,0]
[null,null,null,null,null,null,null,null,0]
[null,null,null,null,null,null,null,null,0]
[null,null,null,null,null,null,null,null,0]
[null,null,null,null,null,null,null,null,0]
[null,null,null,null,null,null,null,null,0]
[null,null,null,null,null,null,null,null,0]
[null,null,null,null,null,null,null,null,0]
[null,null,null,null,null,null,null,null,0]
[null,null,null,null,null,null,null,null,0]
[null,null,null,null,null,null,null,null,0]
[null,null,{"$f":"基本情報!D13","v":0},null,null,null,"合計",null,{"$f":"SUM(I16:J30)","v":0}]
[null,null,{"$f":"基本情報!D14","v":0},null,null,null,"消費税",null,{"$f":"I31*基本情報!B17","v":0}]
[null,null,{"$f":"基本情報!D15","v":0},null,null,null,"総合計",null,{"$f":"I31+I32+E31-E32-E33","v":0}]
["＊備考＊"]
[{"$f":"基本情報!B19","v":0}]
[{"$f":"基本情報!B21","v":0},null,{"$f":"基本情報!B22","v":0}]
[{"$f":"基本情報!B23","v":0},null,{"$f":"基本情報!B24","v":0},null,null,{"$f":"基本情報!D19","v":0}]
[{"$f":"基本情報!B25","v":0},null,null,null,null,{"$f":"基本情報!B6","v":0},{"$f":"基本情報!D6","v":0},{"$f":"基本情報!B7","v":0}]
["Ⓒ　2020　Beelines Co., Ltd"]

{"sheet":"送付状","index":1,"n_rows":38,"n_cols":10,"rows_kept":38,"cut":false,"hidden":false,"merged":[[6,0,6,1],[6,2,6,3],[35,6,35,9],[36,8,36,9],[35,0,35,5],[36,0,36,5],[24,1,24,2],[25,1,25,2],[26,1,26,2],[21,1,21,2],[22,1,22,2],[16,3,16,7],[17,3,17,7],[18,3,18,7],[19,3,19,7],[20,3,20,7],[0,0,1,5],[0,7,0,8],[1,8,1,9],[4,0,5,3],[4,4,5,4],[37,0,37,9],[8,0,12,4],[14,0,14,9],[34,0,34,9],[11,7,11,8],[12,7,12,8],[8,6,8,9],[9,6,9,9],[10,6,10,9],[16,1,16,2],[17,1,17,2],[18,1,18,2],[19,1,19,2],[20,1,20,2],[21,3,21,7],[23,1,23,2],[33,0,33,9],[22,3,22,7],[23,3,23,7],[24,3,24,7],[25,3,25,7],[26,3,26,7],[27,3,27,7],[29,1,29,2],[30,1,30,2],[31,1,31,2],[27,1,27,2],[28,1,28,2],[28,3,28,7],[29,3,29,7],[30,3,30,7],[31,3,31,7]]}
["　書類送付のご案内"]
[null,null,null,null,null,null,null,"送付日","2020-05-31"]
[]
[]
[{"$f":"見積書・請求書!A5","v":0},null,null,null,"御中"]
[]
[{"$f":"見積書・請求書!A7","v":0},null,{"$f":"見積書・請求書!C7","v":"マイケル"}]
[]
["　拝啓　平素より格別のお引き立てを賜り厚く御礼申し上げます。下記の書類を同封しましたのでご査収くださいますようお願い申し上げます。　敬具",null,null,null,null,null,{"$f":"基本情報!B2","v":0}]
[null,null,null,null,null,null,{"$f":"基本情報!B3","v":0}]
[null,null,null,null,null,null,{"$f":"基本情報!B4","v":0}]
[null,null,null,null,null,null,"TEL:",{"$f":"基本情報!B5","v":0}]
[null,null,null,null,null,null,"FAX:",{"$f":"基本情報!D5","v":0}]
[]
["記"]
[]
[null,{"$f":"見積書・請求書!$A$1","v":0},null,{"$f":"見積書・請求書!$G$6","v":0},null,null,null,null,null,"通"]
[]
[null,null,null,null,null,null,null,null,null,"以上"]
[]
[]
[]
[]
[]
[]
[]
[]
[]
[]
[]
[]
[]
["＊備考＊"]
[]
[]
[null,null,null,null,null,null,{"$f":"基本情報!D19","v":0}]
[null,null,null,null,null,null,{"$f":"基本情報!B6","v":0},{"$f":"基本情報!D6","v":0},{"$f":"基本情報!B7","v":0}]
["Ⓒ　2020　Beelines Co., Ltd"]

{"sheet":"FAX送信状","index":2,"n_rows":38,"n_cols":10,"rows_kept":38,"cut":false,"hidden":false,"merged":[[35,0,35,5],[35,6,35,9],[36,0,36,5],[36,8,36,9],[37,0,37,9],[31,1,31,2],[31,3,31,7],[33,0,33,9],[34,0,34,9],[28,1,28,2],[28,3,28,7],[29,1,29,2],[29,3,29,7],[30,1,30,2],[30,3,30,7],[25,1,25,2],[25,3,25,7],[26,1,26,2],[26,3,26,7],[27,1,27,2],[27,3,27,7],[22,1,22,2],[22,3,22,7],[23,1,23,2],[23,3,23,7],[24,1,24,2],[24,3,24,7],[19,1,19,2],[19,3,19,7],[20,1,20,2],[20,3,20,7],[21,1,21,2],[21,3,21,7],[18,1,18,2],[18,3,18,7],[8,0,12,4],[8,6,8,9],[9,6,9,9],[10,6,10,9],[11,7,11,8],[12,7,12,8],[14,0,14,9],[16,1,16,2],[16,3,16,7],[17,1,17,2],[17,3,17,7],[6,0,6,1],[6,2,6,3],[0,0,1,5],[0,7,0,8],[1,8,1,9],[4,0,5,3],[4,4,5,4]]}
["　ＦＡＸ　送付状"]
[null,null,null,null,null,null,null,"送付日","2020-05-31"]
[]
[]
[{"$f":"見積書・請求書!A5","v":0},null,null,null,"御中"]
[]
[{"$f":"見積書・請求書!A7","v":0},null,{"$f":"見積書・請求書!C7","v":"マイケル"}]
[]
["　拝啓　平素より格別のお引き立てを賜り厚く御礼申し上げます。下記の書類をファックスしましたのでご査収くださいますようお願い申し上げます。　敬具",null,null,null,null,null,{"$f":"基本情報!B2","v":0}]
[null,null,null,null,null,null,{"$f":"基本情報!B3","v":0}]
[null,null,null,null,null,null,{"$f":"基本情報!B4","v":0}]
[null,null,null,null,null,null,"TEL:",{"$f":"基本情報!B5","v":0}]
[null,null,null,null,null,null,"FAX:",{"$f":"基本情報!D5","v":0}]
[]
["記"]
[]
[null,{"$f":"見積書・請求書!$A$1","v":0},null,{"$f":"見積書・請求書!$G$6","v":0},null,null,null,null,null,"通"]
[]
[null,null,null,null,null,null,null,null,null,"以上"]
[]
[]
[]
[]
[]
[]
[]
[]
[]
[]
[]
[]
[]
["＊備考＊"]
[]
[]
[null,null,null,null,null,null,{"$f":"基本情報!D19","v":0}]
[null,null,null,null,null,null,{"$f":"基本情報!B6","v":0},{"$f":"基本情報!D6","v":0},{"$f":"基本情報!B7","v":0}]
["Ⓒ　2020　Beelines Co., Ltd"]

{"sheet":"基本情報","index":3,"n_rows":26,"n_cols":7,"rows_kept":26,"cut":false,"hidden":false,"merged":[[25,0,25,6],[0,0,0,6],[8,3,8,6],[3,3,3,6],[4,3,4,6],[5,3,5,6],[18,3,18,6],[13,3,13,5],[14,3,14,5],[12,3,12,5]]}
["基本情報"]
["自社名"]
["〒(請求部署名など)"]
["（〒）住所"]
["電話番号・ＦＡＸ番号"]
["部署名又は担当者名"]
["携帯連絡先"]
[]
["帳票名・表題"]
[]
["明細欄1"]
["明細欄2"]
["明細欄3",null,null,null,null,null,"＋"]
["明細欄4",null,null,null,null,null,"ー"]
["明細欄5",null,null,null,null,null,"ー"]
[]
["消費税率",0.1]
[]
["備考"]
[]
["金融機関名"]
["本店・支店・出張所"]
["種類"]
["口座番号"]
["口座名義"]
["Ⓒ　2020　Beelines Co., Ltd"]

{"sheet":"ご使用前に","index":4,"n_rows":10,"n_cols":2,"rows_kept":10,"cut":false,"hidden":false,"merged":[[2,1,2,11]]}
["ご使用に際して…"]
[]
[1,"本ブックは、弊社ホームページ(https://www.beelines.jp/)からのみダウンロードできます。"]
[2,"弊社ホームページ以外から入手した場合は、"]
[null,"破損やウイルス感染している可能性がありますので、すぐに削除をお勧めします。"]
[3,"本ブックの使用におけるパソコンおよび周辺機器の故障やトラブルには一切の責任を負いません。"]
[4,"ダウンロード・ご使用は、無料です。"]
[5,"MicrosoftExcelアプリケーションがインストールされているWindowsパソコンでご使用ください。"]
[6,"本ブックに関するご質問・お問合せの受付および無償サポートは行っておりません。"]
[null,"（ご要望の多い、【マニュアル】を別途制作中です。少々お待ちください）"]